BEGIN:VCALENDAR
VERSION:2.0
PRODID:-//193.239.44.119//NONSGML kigkonsult.se iCalcreator 2.20//
CALSCALE:GREGORIAN
METHOD:PUBLISH
X-WR-TIMEZONE:Europe/Warsaw
BEGIN:VEVENT
UID:event798@Parafia Rzymskokatolicka Najświętszego Serca Jezusowego w Łęcz
 u - Salezjanie
DTSTAMP:20260419T170215Z
CATEGORIES:Msza Święta
DESCRIPTION:O Boże Błogosławieństwo i potrzebne łaski w obronie pracy inżyn
 ierskiej dla Karola\nKategoria: Msza Święta\nLink: https://lecze-salezjani
 e.pl/index.php?option=com_jem&view=event&id=798:o-boze-blogoslawienstwo-i-
 potrzebne-laski-w-obronie-pracy-inzynierskiej-dla-karola\n
DTSTART;TZID=Europe/Warsaw:20220923T180000
DTEND;TZID=Europe/Warsaw:20220923T180000
LOCATION:Kościół Najświętszego Serca Jezusowego w Łęczu\,Łęcze 48\,Łęcze
SUMMARY:O Boże Błogosławieństwo i potrzebne łaski w obronie pracy inżyniers
 kiej dla Karola
URL:https://lecze-salezjanie.pl/index.php?option=com_jem&view=event&id=798:
 o-boze-blogoslawienstwo-i-potrzebne-laski-w-obronie-pracy-inzynierskiej-dl
 a-karola
END:VEVENT
END:VCALENDAR