BEGIN:VCALENDAR
VERSION:2.0
PRODID:-//193.239.44.119//NONSGML kigkonsult.se iCalcreator 2.20//
CALSCALE:GREGORIAN
METHOD:PUBLISH
X-WR-TIMEZONE:Europe/Warsaw
BEGIN:VEVENT
UID:event800@Parafia Rzymskokatolicka Najświętszego Serca Jezusowego w Łęcz
 u - Salezjanie
DTSTAMP:20260419T152026Z
CATEGORIES:Msza Święta
DESCRIPTION:+ Barbara Straszkiewicz - w miesiąc po śmierci\nKategoria: Msza
  Święta\nLink: https://lecze-salezjanie.pl/index.php?option=com_jem&view=e
 vent&id=800:barbara-straszkiewicz-w-miesiac-po-smierci\n
DTSTART;TZID=Europe/Warsaw:20221017T180000
DTEND;TZID=Europe/Warsaw:20221017T180000
LOCATION:Kościół Najświętszego Serca Jezusowego w Łęczu\,Łęcze 48\,Łęcze
SUMMARY:+ Barbara Straszkiewicz - w miesiąc po śmierci
URL:https://lecze-salezjanie.pl/index.php?option=com_jem&view=event&id=800:
 barbara-straszkiewicz-w-miesiac-po-smierci
END:VEVENT
END:VCALENDAR