BEGIN:VCALENDAR
VERSION:2.0
PRODID:-//193.239.44.119//NONSGML kigkonsult.se iCalcreator 2.20//
CALSCALE:GREGORIAN
METHOD:PUBLISH
X-WR-TIMEZONE:Europe/Warsaw
BEGIN:VEVENT
UID:event822@Parafia Rzymskokatolicka Najświętszego Serca Jezusowego w Łęcz
 u - Salezjanie
DTSTAMP:20260419T152617Z
CATEGORIES:Msza Święta
DESCRIPTION:+ Kazimiera\, Leokadia i wszystkich zmarłych z obojga stron\nKa
 tegoria: Msza Święta\nLink: https://lecze-salezjanie.pl/index.php?option=c
 om_jem&view=event&id=822:kazimiera-leokadia-i-wszystkich-zmarlych-z-obojga
 -stron\n
DTSTART;TZID=Europe/Warsaw:20221009T103000
DTEND;TZID=Europe/Warsaw:20221009T103000
LOCATION:Kościół Maryi Wspomożycielki Wiernych w Suchaczu\,Kielecka 12B\,Su
 chacz
SUMMARY:+ Kazimiera\, Leokadia i wszystkich zmarłych z obojga stron
URL:https://lecze-salezjanie.pl/index.php?option=com_jem&view=event&id=822:
 kazimiera-leokadia-i-wszystkich-zmarlych-z-obojga-stron
END:VEVENT
END:VCALENDAR