BEGIN:VCALENDAR
VERSION:2.0
PRODID:-//193.239.44.119//NONSGML kigkonsult.se iCalcreator 2.20//
CALSCALE:GREGORIAN
METHOD:PUBLISH
X-WR-TIMEZONE:Europe/Warsaw
BEGIN:VEVENT
UID:event823@Parafia Rzymskokatolicka Najświętszego Serca Jezusowego w Łęcz
 u - Salezjanie
DTSTAMP:20260419T151928Z
CATEGORIES:Pogrzeb
DESCRIPTION:+ Wiesław Kwaśny \nKategoria: Pogrzeb\nLink: https://lecze-sale
 zjanie.pl/index.php?option=com_jem&view=event&id=823:wieslaw-kwasny\n
DTSTART;TZID=Europe/Warsaw:20221005T130000
DTEND;TZID=Europe/Warsaw:20221005T130000
LOCATION:Kościół Najświętszego Serca Jezusowego w Łęczu\,Łęcze 48\,Łęcze
SUMMARY:+ Wiesław Kwaśny 
URL:https://lecze-salezjanie.pl/index.php?option=com_jem&view=event&id=823:
 wieslaw-kwasny
END:VEVENT
END:VCALENDAR