BEGIN:VCALENDAR
VERSION:2.0
PRODID:-//193.239.44.119//NONSGML kigkonsult.se iCalcreator 2.20//
CALSCALE:GREGORIAN
METHOD:PUBLISH
X-WR-TIMEZONE:Europe/Warsaw
BEGIN:VEVENT
UID:event829@Parafia Rzymskokatolicka Najświętszego Serca Jezusowego w Łęcz
 u - Salezjanie
DTSTAMP:20260419T152150Z
CATEGORIES:Msza Święta
DESCRIPTION:+ Stanisława i Stanisław Rabiej - w rocznicę śmierci\nKategoria
 : Msza Święta\nLink: https://lecze-salezjanie.pl/index.php?option=com_jem&
 view=event&id=829:stanislawa-i-stanislaw-rabiej-w-rocznice-smierci\n
DTSTART;TZID=Europe/Warsaw:20221028T170000
DTEND;TZID=Europe/Warsaw:20221028T170000
LOCATION:Kościół Maryi Wspomożycielki Wiernych w Suchaczu\,Kielecka 12B\,Su
 chacz
SUMMARY:+ Stanisława i Stanisław Rabiej - w rocznicę śmierci
URL:https://lecze-salezjanie.pl/index.php?option=com_jem&view=event&id=829:
 stanislawa-i-stanislaw-rabiej-w-rocznice-smierci
END:VEVENT
END:VCALENDAR