BEGIN:VCALENDAR
VERSION:2.0
PRODID:-//193.239.44.119//NONSGML kigkonsult.se iCalcreator 2.20//
CALSCALE:GREGORIAN
METHOD:PUBLISH
X-WR-TIMEZONE:Europe/Warsaw
BEGIN:VEVENT
UID:event82@Parafia Rzymskokatolicka Najświętszego Serca Jezusowego w Łęczu
  - Salezjanie
DTSTAMP:20260420T052604Z
CATEGORIES:Msza Święta
DESCRIPTION:+ Jan Adamczyk - w 8 rocznicę śmierci i zmarli z rodziny Serafi
 nów\nKategoria: Msza Święta\nLink: https://lecze-salezjanie.pl/index.php?o
 ption=com_jem&view=event&id=82:jan-adamczyk-w-8-rocznice-smierci-i-zmarli-
 z-rodziny-serafinow\n
DTSTART;TZID=Europe/Warsaw:20220213T090000
DTEND;TZID=Europe/Warsaw:20220213T090000
LOCATION:Kościół Najświętszego Serca Jezusowego w Łęczu\,Łęcze 48\,Łęcze
SUMMARY:+ Jan Adamczyk - w 8 rocznicę śmierci i zmarli z rodziny Serafinów
URL:https://lecze-salezjanie.pl/index.php?option=com_jem&view=event&id=82:j
 an-adamczyk-w-8-rocznice-smierci-i-zmarli-z-rodziny-serafinow
END:VEVENT
END:VCALENDAR