BEGIN:VCALENDAR
VERSION:2.0
PRODID:-//193.239.44.119//NONSGML kigkonsult.se iCalcreator 2.20//
CALSCALE:GREGORIAN
METHOD:PUBLISH
X-WR-TIMEZONE:Europe/Warsaw
BEGIN:VEVENT
UID:event832@Parafia Rzymskokatolicka Najświętszego Serca Jezusowego w Łęcz
 u - Salezjanie
DTSTAMP:20260419T135032Z
CATEGORIES:Msza Święta
DESCRIPTION:+ Teresa Bąk i zmarli z rodziny Bąków i Jakubowskich\nKategoria
 : Msza Święta\nLink: https://lecze-salezjanie.pl/index.php?option=com_jem&
 view=event&id=832:teresa-bak-i-zmarli-z-rodziny-bakow-i-jakubowskich\n
DTSTART;TZID=Europe/Warsaw:20221105T180000
DTEND;TZID=Europe/Warsaw:20221105T180000
LOCATION:Kościół Najświętszego Serca Jezusowego w Łęczu\,Łęcze 48\,Łęcze
SUMMARY:+ Teresa Bąk i zmarli z rodziny Bąków i Jakubowskich
URL:https://lecze-salezjanie.pl/index.php?option=com_jem&view=event&id=832:
 teresa-bak-i-zmarli-z-rodziny-bakow-i-jakubowskich
END:VEVENT
END:VCALENDAR