BEGIN:VCALENDAR
VERSION:2.0
PRODID:-//193.239.44.119//NONSGML kigkonsult.se iCalcreator 2.20//
CALSCALE:GREGORIAN
METHOD:PUBLISH
X-WR-TIMEZONE:Europe/Warsaw
BEGIN:VEVENT
UID:event838@Parafia Rzymskokatolicka Najświętszego Serca Jezusowego w Łęcz
 u - Salezjanie
DTSTAMP:20260419T115300Z
CATEGORIES:Msza Święta
DESCRIPTION:+ Halina Piotrowska - w 5 rocznicę śmierci i Witold Piotrowski
 \nKategoria: Msza Święta\nLink: https://lecze-salezjanie.pl/index.php?opti
 on=com_jem&view=event&id=838:halina-piotrowska-w-5-rocznice-smierci-i-wito
 ld-piotrowski\n
DTSTART;TZID=Europe/Warsaw:20221127T090000
DTEND;TZID=Europe/Warsaw:20221127T090000
LOCATION:Kościół Najświętszego Serca Jezusowego w Łęczu\,Łęcze 48\,Łęcze
SUMMARY:+ Halina Piotrowska - w 5 rocznicę śmierci i Witold Piotrowski
URL:https://lecze-salezjanie.pl/index.php?option=com_jem&view=event&id=838:
 halina-piotrowska-w-5-rocznice-smierci-i-witold-piotrowski
END:VEVENT
END:VCALENDAR