BEGIN:VCALENDAR
VERSION:2.0
PRODID:-//193.239.44.119//NONSGML kigkonsult.se iCalcreator 2.20//
CALSCALE:GREGORIAN
METHOD:PUBLISH
X-WR-TIMEZONE:Europe/Warsaw
BEGIN:VEVENT
UID:event845@Parafia Rzymskokatolicka Najświętszego Serca Jezusowego w Łęcz
 u - Salezjanie
DTSTAMP:20260419T121122Z
CATEGORIES:Msza Święta
DESCRIPTION:+ Zbysław Lachowicz - w miesiąc po śmierci\nKategoria: Msza Świ
 ęta\nLink: https://lecze-salezjanie.pl/index.php?option=com_jem&view=event
 &id=845:zbyslaw-lachowicz-w-miesiac-po-smierci\n
DTSTART;TZID=Europe/Warsaw:20221120T090000
DTEND;TZID=Europe/Warsaw:20221120T090000
LOCATION:Kościół Maryi Wspomożycielki Wiernych w Suchaczu\,Kielecka 12B\,Su
 chacz
SUMMARY:+ Zbysław Lachowicz - w miesiąc po śmierci
URL:https://lecze-salezjanie.pl/index.php?option=com_jem&view=event&id=845:
 zbyslaw-lachowicz-w-miesiac-po-smierci
END:VEVENT
END:VCALENDAR