BEGIN:VCALENDAR
VERSION:2.0
PRODID:-//193.239.44.119//NONSGML kigkonsult.se iCalcreator 2.20//
CALSCALE:GREGORIAN
METHOD:PUBLISH
X-WR-TIMEZONE:Europe/Warsaw
BEGIN:VEVENT
UID:event848@Parafia Rzymskokatolicka Najświętszego Serca Jezusowego w Łęcz
 u - Salezjanie
DTSTAMP:20260419T151901Z
CATEGORIES:Nabożeństwo
DESCRIPTION:Nabożeństwo Różańcowe\nKategoria: Nabożeństwo\nLink: https://le
 cze-salezjanie.pl/index.php?option=com_jem&view=event&id=848:nabozenstwo-r
 ozancowe-2\n
DTSTART;TZID=Europe/Warsaw:20221001T173000
DTEND;TZID=Europe/Warsaw:20221001T173000
LOCATION:Kościół Najświętszego Serca Jezusowego w Łęczu\,Łęcze 48\,Łęcze
SUMMARY:Nabożeństwo Różańcowe
URL:https://lecze-salezjanie.pl/index.php?option=com_jem&view=event&id=848:
 nabozenstwo-rozancowe-2
END:VEVENT
END:VCALENDAR