BEGIN:VCALENDAR
VERSION:2.0
PRODID:-//193.239.44.119//NONSGML kigkonsult.se iCalcreator 2.20//
CALSCALE:GREGORIAN
METHOD:PUBLISH
X-WR-TIMEZONE:Europe/Warsaw
BEGIN:VEVENT
UID:event856@Parafia Rzymskokatolicka Najświętszego Serca Jezusowego w Łęcz
 u - Salezjanie
DTSTAMP:20260419T121830Z
CATEGORIES:Msza Święta
DESCRIPTION:Dziękczynna\, za otrzymane łaski\, z prośbą o Boże Błogosławień
 stwo w nowym roku dla rodziny Andrukiewiczów\nKategoria: Msza Święta\nLink
 : https://lecze-salezjanie.pl/index.php?option=com_jem&view=event&id=856:d
 ziekczynna-za-otrzymane-laski-z-prosba-o-boze-blogoslawienstwo-w-nowym-rok
 u-dla-rodziny-andrukiewiczow\n
DTSTART;TZID=Europe/Warsaw:20221231T180000
DTEND;TZID=Europe/Warsaw:20221231T180000
LOCATION:Kościół Najświętszego Serca Jezusowego w Łęczu\,Łęcze 48\,Łęcze
SUMMARY:Dziękczynna\, za otrzymane łaski\, z prośbą o Boże Błogosławieństwo
  w nowym roku dla rodziny Andrukiewiczów
URL:https://lecze-salezjanie.pl/index.php?option=com_jem&view=event&id=856:
 dziekczynna-za-otrzymane-laski-z-prosba-o-boze-blogoslawienstwo-w-nowym-ro
 ku-dla-rodziny-andrukiewiczow
END:VEVENT
END:VCALENDAR