BEGIN:VCALENDAR
VERSION:2.0
PRODID:-//193.239.44.119//NONSGML kigkonsult.se iCalcreator 2.20//
CALSCALE:GREGORIAN
METHOD:PUBLISH
X-WR-TIMEZONE:Europe/Warsaw
BEGIN:VEVENT
UID:event862@Parafia Rzymskokatolicka Najświętszego Serca Jezusowego w Łęcz
 u - Salezjanie
DTSTAMP:20260419T120853Z
CATEGORIES:Nabożeństwo
DESCRIPTION:Różaniec z Wypominkami z Łęcza\nKategoria: Nabożeństwo\nLink: h
 ttps://lecze-salezjanie.pl/index.php?option=com_jem&view=event&id=862:roza
 niec-z-wypominkami-z-lecza\n
DTSTART;TZID=Europe/Warsaw:20221102T173000
DTEND;TZID=Europe/Warsaw:20221102T173000
LOCATION:Kościół Najświętszego Serca Jezusowego w Łęczu\,Łęcze 48\,Łęcze
SUMMARY:Różaniec z Wypominkami z Łęcza
URL:https://lecze-salezjanie.pl/index.php?option=com_jem&view=event&id=862:
 rozaniec-z-wypominkami-z-lecza
END:VEVENT
END:VCALENDAR