BEGIN:VCALENDAR
VERSION:2.0
PRODID:-//193.239.44.119//NONSGML kigkonsult.se iCalcreator 2.20//
CALSCALE:GREGORIAN
METHOD:PUBLISH
X-WR-TIMEZONE:Europe/Warsaw
BEGIN:VEVENT
UID:event863@Parafia Rzymskokatolicka Najświętszego Serca Jezusowego w Łęcz
 u - Salezjanie
DTSTAMP:20260419T121150Z
CATEGORIES:Nabożeństwo
DESCRIPTION:Różaniec z Wypominkami z Kamionka Wielkiego\nKategoria: Nabożeń
 stwo\nLink: https://lecze-salezjanie.pl/index.php?option=com_jem&view=even
 t&id=863:rozaniec-z-wypominkami-z-kamionka-wielkiego\n
DTSTART;TZID=Europe/Warsaw:20221102T173000
DTEND;TZID=Europe/Warsaw:20221102T173000
LOCATION:Kościół Najświętszego Serca Jezusowego w Łęczu\,Łęcze 48\,Łęcze
SUMMARY:Różaniec z Wypominkami z Kamionka Wielkiego
URL:https://lecze-salezjanie.pl/index.php?option=com_jem&view=event&id=863:
 rozaniec-z-wypominkami-z-kamionka-wielkiego
END:VEVENT
END:VCALENDAR