BEGIN:VCALENDAR
VERSION:2.0
PRODID:-//193.239.44.119//NONSGML kigkonsult.se iCalcreator 2.20//
CALSCALE:GREGORIAN
METHOD:PUBLISH
X-WR-TIMEZONE:Europe/Warsaw
BEGIN:VEVENT
UID:event864@Parafia Rzymskokatolicka Najświętszego Serca Jezusowego w Łęcz
 u - Salezjanie
DTSTAMP:20260419T120853Z
CATEGORIES:Nabożeństwo
DESCRIPTION:Różaniec z Wypominkami z Suchacza\nKategoria: Nabożeństwo\nLink
 : https://lecze-salezjanie.pl/index.php?option=com_jem&view=event&id=864:r
 ozaniec-z-wypominkami-z-suchacza\n
DTSTART;TZID=Europe/Warsaw:20221103T163000
DTEND;TZID=Europe/Warsaw:20221103T163000
LOCATION:Kościół Maryi Wspomożycielki Wiernych w Suchaczu\,Kielecka 12B\,Su
 chacz
SUMMARY:Różaniec z Wypominkami z Suchacza
URL:https://lecze-salezjanie.pl/index.php?option=com_jem&view=event&id=864:
 rozaniec-z-wypominkami-z-suchacza
END:VEVENT
END:VCALENDAR