BEGIN:VCALENDAR
VERSION:2.0
PRODID:-//193.239.44.119//NONSGML kigkonsult.se iCalcreator 2.20//
CALSCALE:GREGORIAN
METHOD:PUBLISH
X-WR-TIMEZONE:Europe/Warsaw
BEGIN:VEVENT
UID:event869@Parafia Rzymskokatolicka Najświętszego Serca Jezusowego w Łęcz
 u - Salezjanie
DTSTAMP:20260419T121508Z
CATEGORIES:Msza Święta
DESCRIPTION:+ Jan Hornof i wszyscy zmarli z rodziny Hornof i Kandalskich\nK
 ategoria: Msza Święta\nLink: https://lecze-salezjanie.pl/index.php?option=
 com_jem&view=event&id=869:jan-hornof-i-wszyscy-zmarli-z-rodziny-hornof-i-k
 andalskich\n
DTSTART;TZID=Europe/Warsaw:20221120T120000
DTEND;TZID=Europe/Warsaw:20221120T120000
LOCATION:Świetlica Wiejska w Kamionku Wielkim\,Kamionek Wielki 5B\,Kamionek
  Wielki
SUMMARY:+ Jan Hornof i wszyscy zmarli z rodziny Hornof i Kandalskich
URL:https://lecze-salezjanie.pl/index.php?option=com_jem&view=event&id=869:
 jan-hornof-i-wszyscy-zmarli-z-rodziny-hornof-i-kandalskich
END:VEVENT
END:VCALENDAR