BEGIN:VCALENDAR
VERSION:2.0
PRODID:-//193.239.44.119//NONSGML kigkonsult.se iCalcreator 2.20//
CALSCALE:GREGORIAN
METHOD:PUBLISH
X-WR-TIMEZONE:Europe/Warsaw
BEGIN:VEVENT
UID:event873@Parafia Rzymskokatolicka Najświętszego Serca Jezusowego w Łęcz
 u - Salezjanie
DTSTAMP:20260419T121554Z
CATEGORIES:Msza Święta
DESCRIPTION:Dziękczynna\, z prośbą o Boże Błogosławieństwo i opiekę Matki B
 ożej z okazji 40 urodzin dla Beaty\nKategoria: Msza Święta\nLink: https://
 lecze-salezjanie.pl/index.php?option=com_jem&view=event&id=873:dziekczynna
 -z-prosba-o-boze-blogoslawienstwo-i-opieke-matki-bozej-z-okazji-40-urodzin
 -dla-beaty\n
DTSTART;TZID=Europe/Warsaw:20221124T170000
DTEND;TZID=Europe/Warsaw:20221124T170000
LOCATION:Kościół Maryi Wspomożycielki Wiernych w Suchaczu\,Kielecka 12B\,Su
 chacz
SUMMARY:Dziękczynna\, z prośbą o Boże Błogosławieństwo i opiekę Matki Bożej
  z okazji 40 urodzin dla Beaty
URL:https://lecze-salezjanie.pl/index.php?option=com_jem&view=event&id=873:
 dziekczynna-z-prosba-o-boze-blogoslawienstwo-i-opieke-matki-bozej-z-okazji
 -40-urodzin-dla-beaty
END:VEVENT
END:VCALENDAR