BEGIN:VCALENDAR
VERSION:2.0
PRODID:-//193.239.44.119//NONSGML kigkonsult.se iCalcreator 2.20//
CALSCALE:GREGORIAN
METHOD:PUBLISH
X-WR-TIMEZONE:Europe/Warsaw
BEGIN:VEVENT
UID:event876@Parafia Rzymskokatolicka Najświętszego Serca Jezusowego w Łęcz
 u - Salezjanie
DTSTAMP:20260419T121508Z
CATEGORIES:Msza Święta
DESCRIPTION:O Boże Błogosławieństwo\, zdrowie\, i potrzebne łaski dla Janus
 za Rygały w dniu imienin\nKategoria: Msza Święta\nLink: https://lecze-sale
 zjanie.pl/index.php?option=com_jem&view=event&id=876:o-boze-blogoslawienst
 wo-zdrowie-i-potrzebne-laski-dla-janusza-rygaly-w-dniu-imienin\n
DTSTART;TZID=Europe/Warsaw:20221121T180000
DTEND;TZID=Europe/Warsaw:20221121T180000
LOCATION:Kościół Najświętszego Serca Jezusowego w Łęczu\,Łęcze 48\,Łęcze
SUMMARY:O Boże Błogosławieństwo\, zdrowie\, i potrzebne łaski dla Janusza R
 ygały w dniu imienin
URL:https://lecze-salezjanie.pl/index.php?option=com_jem&view=event&id=876:
 o-boze-blogoslawienstwo-zdrowie-i-potrzebne-laski-dla-janusza-rygaly-w-dni
 u-imienin
END:VEVENT
END:VCALENDAR