BEGIN:VCALENDAR
VERSION:2.0
PRODID:-//193.239.44.119//NONSGML kigkonsult.se iCalcreator 2.20//
CALSCALE:GREGORIAN
METHOD:PUBLISH
X-WR-TIMEZONE:Europe/Warsaw
BEGIN:VEVENT
UID:event879@Parafia Rzymskokatolicka Najświętszego Serca Jezusowego w Łęcz
 u - Salezjanie
DTSTAMP:20260419T121038Z
CATEGORIES:Msza Święta
DESCRIPTION:Za zmarłych Rodziców Salezjanów\nKategoria: Msza Święta\nLink: 
 https://lecze-salezjanie.pl/index.php?option=com_jem&view=event&id=879:za-
 zmarlych-rodzicow-salezjanow-1\n
DTSTART;TZID=Europe/Warsaw:20221125T180000
DTEND;TZID=Europe/Warsaw:20221125T180000
LOCATION:Kościół Najświętszego Serca Jezusowego w Łęczu\,Łęcze 48\,Łęcze
SUMMARY:Za zmarłych Rodziców Salezjanów
URL:https://lecze-salezjanie.pl/index.php?option=com_jem&view=event&id=879:
 za-zmarlych-rodzicow-salezjanow-1
END:VEVENT
END:VCALENDAR