BEGIN:VCALENDAR
VERSION:2.0
PRODID:-//193.239.44.119//NONSGML kigkonsult.se iCalcreator 2.20//
CALSCALE:GREGORIAN
METHOD:PUBLISH
X-WR-TIMEZONE:Europe/Warsaw
BEGIN:VEVENT
UID:event94@Parafia Rzymskokatolicka Najświętszego Serca Jezusowego w Łęczu
  - Salezjanie
DTSTAMP:20260420T052729Z
CATEGORIES:Msza Święta
DESCRIPTION:O Boże Błogosławieństwo\, wytrwanie w dobrym i Opiekę Matki Boż
 ej dla Tristianka\nKategoria: Msza Święta\nLink: https://lecze-salezjanie.
 pl/index.php?option=com_jem&view=event&id=94:o-boze-blogoslawienstwo-wytrw
 anie-w-dobrym-i-opieke-matki-bozej-dla-tristianka-2\n
DTSTART;TZID=Europe/Warsaw:20220219T180000
DTEND;TZID=Europe/Warsaw:20220219T180000
LOCATION:Kościół Najświętszego Serca Jezusowego w Łęczu\,Łęcze 48\,Łęcze
SUMMARY:O Boże Błogosławieństwo\, wytrwanie w dobrym i Opiekę Matki Bożej d
 la Tristianka
URL:https://lecze-salezjanie.pl/index.php?option=com_jem&view=event&id=94:o
 -boze-blogoslawienstwo-wytrwanie-w-dobrym-i-opieke-matki-bozej-dla-tristia
 nka-2
END:VEVENT
END:VCALENDAR