BEGIN:VCALENDAR
VERSION:2.0
PRODID:-//193.239.44.119//NONSGML kigkonsult.se iCalcreator 2.20//
CALSCALE:GREGORIAN
METHOD:PUBLISH
X-WR-TIMEZONE:Europe/Warsaw
BEGIN:VEVENT
UID:event96@Parafia Rzymskokatolicka Najświętszego Serca Jezusowego w Łęczu
  - Salezjanie
DTSTAMP:20260420T051647Z
CATEGORIES:Msza Święta
DESCRIPTION:+ Helena Domin - Msza święta Gregoriańska (21)\nKategoria: Msza
  Święta\nLink: https://lecze-salezjanie.pl/index.php?option=com_jem&view=e
 vent&id=96:helena-domin-msza-swieta-gregorianska-21\n
DTSTART;TZID=Europe/Warsaw:20220220T090000
DTEND;TZID=Europe/Warsaw:20220220T090000
LOCATION:Kościół Najświętszego Serca Jezusowego w Łęczu\,Łęcze 48\,Łęcze
SUMMARY:+ Helena Domin - Msza święta Gregoriańska (21)
URL:https://lecze-salezjanie.pl/index.php?option=com_jem&view=event&id=96:h
 elena-domin-msza-swieta-gregorianska-21
END:VEVENT
END:VCALENDAR