BEGIN:VCALENDAR
VERSION:2.0
PRODID:-//193.239.44.119//NONSGML kigkonsult.se iCalcreator 2.20//
CALSCALE:GREGORIAN
METHOD:PUBLISH
X-WR-TIMEZONE:Europe/Warsaw
BEGIN:VEVENT
UID:event97@Parafia Rzymskokatolicka Najświętszego Serca Jezusowego w Łęczu
  - Salezjanie
DTSTAMP:20260420T052503Z
CATEGORIES:Msza Święta
DESCRIPTION:+ Adam Śliwka - 1 rocznica śmierci\nKategoria: Msza Święta\nLin
 k: https://lecze-salezjanie.pl/index.php?option=com_jem&view=event&id=97:a
 dam-sliwka-1-rocznica-smierci\n
DTSTART;TZID=Europe/Warsaw:20220220T120000
DTEND;TZID=Europe/Warsaw:20220220T120000
LOCATION:Kościół Najświętszego Serca Jezusowego w Łęczu\,Łęcze 48\,Łęcze
SUMMARY:+ Adam Śliwka - 1 rocznica śmierci
URL:https://lecze-salezjanie.pl/index.php?option=com_jem&view=event&id=97:a
 dam-sliwka-1-rocznica-smierci
END:VEVENT
END:VCALENDAR